BEGIN:VCALENDAR
VERSION:2.0
PRODID:-//DUAG e.V. - ECPv6.15.20//NONSGML v1.0//EN
CALSCALE:GREGORIAN
METHOD:PUBLISH
X-WR-CALNAME:DUAG e.V.
X-ORIGINAL-URL:https://duag.org
X-WR-CALDESC:Veranstaltungen für DUAG e.V.
REFRESH-INTERVAL;VALUE=DURATION:PT1H
X-Robots-Tag:noindex
X-PUBLISHED-TTL:PT1H
BEGIN:VTIMEZONE
TZID:Europe/Berlin
BEGIN:DAYLIGHT
TZOFFSETFROM:+0100
TZOFFSETTO:+0200
TZNAME:CEST
DTSTART:20250330T010000
END:DAYLIGHT
BEGIN:STANDARD
TZOFFSETFROM:+0200
TZOFFSETTO:+0100
TZNAME:CET
DTSTART:20251026T010000
END:STANDARD
BEGIN:DAYLIGHT
TZOFFSETFROM:+0100
TZOFFSETTO:+0200
TZNAME:CEST
DTSTART:20260329T010000
END:DAYLIGHT
BEGIN:STANDARD
TZOFFSETFROM:+0200
TZOFFSETTO:+0100
TZNAME:CET
DTSTART:20261025T010000
END:STANDARD
BEGIN:DAYLIGHT
TZOFFSETFROM:+0100
TZOFFSETTO:+0200
TZNAME:CEST
DTSTART:20270328T010000
END:DAYLIGHT
BEGIN:STANDARD
TZOFFSETFROM:+0200
TZOFFSETTO:+0100
TZNAME:CET
DTSTART:20271031T010000
END:STANDARD
END:VTIMEZONE
BEGIN:VEVENT
DTSTART;TZID=Europe/Berlin:20261008T113000
DTEND;TZID=Europe/Berlin:20261008T150000
DTSTAMP:20260420T224750
CREATED:20260321T140431Z
LAST-MODIFIED:20260321T140431Z
UID:1926-1791459000-1791471600@duag.org
SUMMARY:Beratung von Uveitis-Betroffenen im Universitäts-Augenklinikum Aachen
DESCRIPTION:Am 08. Oktober 2026 findet von 11.30 Uhr – 15 .00 Uhr in der Universitäts-Augenklinik Aachen\, 8. Etage (B3 Aufzug)\, Flur 12\, Zimmer 21\, eine von Frau Kerstin Stettner durchgeführte Beratung von Uveitis-Betroffenen statt. Vorab-Informationen erhalten Sie bei Frau Stettner\, Tel: 0177 6 24 25 21\, E-Mail: kerstin.stettner@uveitis-aachen.de
URL:https://duag.org/termin/beratung-von-uveitis-betroffenen-im-universitaets-augenklinikum-aachen-2/
LOCATION:Universitäts-Augenklinik Aachen
ORGANIZER;CN="Selbsthilfegruppe Aachen / Eifel - Siegen":MAILTO:khk.stettner@gmx.de.
END:VEVENT
BEGIN:VEVENT
DTSTART;VALUE=DATE:20261009
DTEND;VALUE=DATE:20261012
DTSTAMP:20260420T224750
CREATED:20260321T140650Z
LAST-MODIFIED:20260321T142043Z
UID:1930-1791504000-1791763199@duag.org
SUMMARY:Vorankündigung: Wochenendseminar in Bonn - Ärzte-Patientenseminar und 30 Jahre DUAG
DESCRIPTION:Vorankündigung: Vom 09. – 11. Oktober 2026 wird in Bonn-Beuel unser nächstes Wochenendseminar stattfinden. Sie werden selbstverständlich rechtzeitig über alles Weitere informiert werden.\nDas Programm ist noch in Arbeit\, Anmeldungen werden aber schon gern\nentgegengenommen. Wer sich mit Erfahrungsberichten aus der \nDUAG-Geschichte beteiligen möchte kann sich gerne bei Martin Rügert oder\nKerstin Stettner melden!
URL:https://duag.org/termin/vorankuendigung-wochenendseminar-in-bonn/
LOCATION:Bonn
END:VEVENT
END:VCALENDAR