BEGIN:VCALENDAR
VERSION:2.0
PRODID:-//DUAG e.V. - ECPv6.15.20//NONSGML v1.0//EN
CALSCALE:GREGORIAN
METHOD:PUBLISH
X-ORIGINAL-URL:https://duag.org
X-WR-CALDESC:Veranstaltungen für DUAG e.V.
REFRESH-INTERVAL;VALUE=DURATION:PT1H
X-Robots-Tag:noindex
X-PUBLISHED-TTL:PT1H
BEGIN:VTIMEZONE
TZID:Europe/Berlin
BEGIN:DAYLIGHT
TZOFFSETFROM:+0100
TZOFFSETTO:+0200
TZNAME:CEST
DTSTART:20240331T010000
END:DAYLIGHT
BEGIN:STANDARD
TZOFFSETFROM:+0200
TZOFFSETTO:+0100
TZNAME:CET
DTSTART:20241027T010000
END:STANDARD
BEGIN:DAYLIGHT
TZOFFSETFROM:+0100
TZOFFSETTO:+0200
TZNAME:CEST
DTSTART:20250330T010000
END:DAYLIGHT
BEGIN:STANDARD
TZOFFSETFROM:+0200
TZOFFSETTO:+0100
TZNAME:CET
DTSTART:20251026T010000
END:STANDARD
BEGIN:DAYLIGHT
TZOFFSETFROM:+0100
TZOFFSETTO:+0200
TZNAME:CEST
DTSTART:20260329T010000
END:DAYLIGHT
BEGIN:STANDARD
TZOFFSETFROM:+0200
TZOFFSETTO:+0100
TZNAME:CET
DTSTART:20261025T010000
END:STANDARD
END:VTIMEZONE
BEGIN:VEVENT
DTSTART;TZID=Europe/Berlin:20251110T180000
DTEND;TZID=Europe/Berlin:20251110T200000
DTSTAMP:20260421T120230
CREATED:20251007T075320Z
LAST-MODIFIED:20251007T075509Z
UID:1630-1762797600-1762804800@duag.org
SUMMARY:Zoom-Meeting der Selbsthilfegruppe Uveitis Süd mit Christina Kiening
DESCRIPTION:Die Selbsthilfegruppe Uveitis Süd lädt zum ersten Zoom-Meeting ein. Gast-Referierende ist Frau Christina Kiening zum Thema Coimbra-Protokoll. Beginn ist 18:00 Uhr. Wer interessiert ist kann den Zugang anfragen bei: Frau Verica Sentic\, Tel.: 01556-61 34 715\, E-Mail: v.sentic@duag.org
URL:https://duag.org/termin/zoom-meeting-der-selbsthilfegruppe-uveitis-sued-mit-christina-kiening/
CATEGORIES:Onlineveranstaltung
END:VEVENT
BEGIN:VEVENT
DTSTART;TZID=Europe/Berlin:20251121T180000
DTEND;TZID=Europe/Berlin:20251123T120000
DTSTAMP:20260421T120230
CREATED:20250902T145133Z
LAST-MODIFIED:20250902T145443Z
UID:1602-1763748000-1763899200@duag.org
SUMMARY:Seminarwochenende in der Rehaklinik Masserberg
DESCRIPTION:PDF-Informationsflyer Masserberg November 2025 \nDie Deutsche Uveitis-Arbeitsgemeinschaft (DUAG) e. V.\nlädt ein zum\nSEMINARWOCHENENDE\nin der Rehaklinik Masserberg\nvom 21. – 23. November 2025\nunter dem Motto\n„DIE AUGEN IM BLICK – REHA FÜR MEINE AUGEN“\nmit Prof. Dr. med. Kathleen Kunert\, Prof. Dr. Uwe Pleyer\nund dem Team der Reha-Klinik Masserberg \n  \nBitte beachten Sie das genaue Programm im beigefügten PDF: \nPDF-Informationsflyer Masserberg November 2025
URL:https://duag.org/termin/seminarwochenende-in-der-rehaklinik-masserberg/
LOCATION:Rehaklinik Masserberg\, Masserberg
ATTACH;FMTTYPE=image/jpeg:https://duag.org/wp-content/uploads/2025/09/251121_Masserberg.jpg
END:VEVENT
END:VCALENDAR