BEGIN:VCALENDAR
VERSION:2.0
PRODID:-//DUAG e.V. - ECPv6.15.20//NONSGML v1.0//EN
CALSCALE:GREGORIAN
METHOD:PUBLISH
X-WR-CALNAME:DUAG e.V.
X-ORIGINAL-URL:https://duag.org
X-WR-CALDESC:Veranstaltungen für DUAG e.V.
REFRESH-INTERVAL;VALUE=DURATION:PT1H
X-Robots-Tag:noindex
X-PUBLISHED-TTL:PT1H
BEGIN:VTIMEZONE
TZID:Europe/Berlin
BEGIN:DAYLIGHT
TZOFFSETFROM:+0100
TZOFFSETTO:+0200
TZNAME:CEST
DTSTART:20230326T010000
END:DAYLIGHT
BEGIN:STANDARD
TZOFFSETFROM:+0200
TZOFFSETTO:+0100
TZNAME:CET
DTSTART:20231029T010000
END:STANDARD
BEGIN:DAYLIGHT
TZOFFSETFROM:+0100
TZOFFSETTO:+0200
TZNAME:CEST
DTSTART:20240331T010000
END:DAYLIGHT
BEGIN:STANDARD
TZOFFSETFROM:+0200
TZOFFSETTO:+0100
TZNAME:CET
DTSTART:20241027T010000
END:STANDARD
BEGIN:DAYLIGHT
TZOFFSETFROM:+0100
TZOFFSETTO:+0200
TZNAME:CEST
DTSTART:20250330T010000
END:DAYLIGHT
BEGIN:STANDARD
TZOFFSETFROM:+0200
TZOFFSETTO:+0100
TZNAME:CET
DTSTART:20251026T010000
END:STANDARD
END:VTIMEZONE
BEGIN:VEVENT
DTSTART;TZID=Europe/Berlin:20241015T183000
DTEND;TZID=Europe/Berlin:20241015T193000
DTSTAMP:20260424T032517
CREATED:20240823T200432Z
LAST-MODIFIED:20240823T200536Z
UID:1221-1729017000-1729020600@duag.org
SUMMARY:Uveitis -  das wollte ich schon immer fragen!
DESCRIPTION:Uveitis im Norden – die Selbsthilfegruppe in Norddeutschland  lädt Sie ganz herzlich zu einem Zoom-Meeting mit dem Thema\n„Uveitis – das wollte ich schon immer fragen!“ ein.\nSie können Fragen rund um das Thema stellen\, die Sie immer schon\nstellen wollten\, aber aus welchen Gründen auch immer bislang nicht\ngestellt haben.\nHerr Prof. Dr. med. Carsten Heinz ist leitender Arzt mit dem Schwerpunkt\nUveitis im Augenzentrum am St.-Franziskus-Hospital in Münster\n(Westfalen). Er stellt sich Ihren Fragen und wird auch einen Vortrag zu\nUveitis halten.\nEine Anmeldung zur Teilnahme ist nicht nötig. Weitere Informationen\nunter www.uveitis-im-norden.de\, Frau Fechner steht Ihnen unter\nTel. 0172-9937850 oder per Email info@uveitis-im-norden.de zur\nVerfügung. \n  \nEinladung-Uveitis das wollte ich schon immer fragen – 2024
URL:https://duag.org/termin/uveitis-das-wollte-ich-schon-immer-fragen/
LOCATION:Online
ATTACH;FMTTYPE=image/jpeg:https://duag.org/wp-content/uploads/2024/08/logo-uveitis-im-norden-768x447-1.jpg
ORGANIZER;CN="Uveitis im Norden e.V.":MAILTO:info@uveitis-im-norden.de
END:VEVENT
BEGIN:VEVENT
DTSTART;TZID=Europe/Berlin:20241029T180000
DTEND;TZID=Europe/Berlin:20241029T200000
DTSTAMP:20260424T032517
CREATED:20240823T201639Z
LAST-MODIFIED:20240823T201639Z
UID:1228-1730224800-1730232000@duag.org
SUMMARY:Austausch der Regionalgruppe Aachen\, Eifel\, Siegen
DESCRIPTION:Usere Regionalgruppe bietet einmal im Monat Zoom-Konferenzen zum Austausch untereinander an. Beginn ist jeweils um 18:00 bzw. 19:00 Uhr Wer interessiert ist kann den Zugang zum jeweiligen Termin anfragen bei: Kerstin Stettner Tel: 0177 6 24 25 21 E-Mail: Khk.stettner@gmx.de
URL:https://duag.org/termin/austausch-der-regionalgruppe-aachen-eifel-siegen-3/
LOCATION:Online
ORGANIZER;CN="Selbsthilfegruppe Aachen / Eifel - Siegen":MAILTO:khk.stettner@gmx.de.
END:VEVENT
END:VCALENDAR