BEGIN:VCALENDAR
VERSION:2.0
PRODID:-//DUAG e.V. - ECPv6.15.20//NONSGML v1.0//EN
CALSCALE:GREGORIAN
METHOD:PUBLISH
X-WR-CALNAME:DUAG e.V.
X-ORIGINAL-URL:https://duag.org
X-WR-CALDESC:Veranstaltungen für DUAG e.V.
REFRESH-INTERVAL;VALUE=DURATION:PT1H
X-Robots-Tag:noindex
X-PUBLISHED-TTL:PT1H
BEGIN:VTIMEZONE
TZID:Europe/Berlin
BEGIN:DAYLIGHT
TZOFFSETFROM:+0100
TZOFFSETTO:+0200
TZNAME:CEST
DTSTART:20250330T010000
END:DAYLIGHT
BEGIN:STANDARD
TZOFFSETFROM:+0200
TZOFFSETTO:+0100
TZNAME:CET
DTSTART:20251026T010000
END:STANDARD
BEGIN:DAYLIGHT
TZOFFSETFROM:+0100
TZOFFSETTO:+0200
TZNAME:CEST
DTSTART:20260329T010000
END:DAYLIGHT
BEGIN:STANDARD
TZOFFSETFROM:+0200
TZOFFSETTO:+0100
TZNAME:CET
DTSTART:20261025T010000
END:STANDARD
BEGIN:DAYLIGHT
TZOFFSETFROM:+0100
TZOFFSETTO:+0200
TZNAME:CEST
DTSTART:20270328T010000
END:DAYLIGHT
BEGIN:STANDARD
TZOFFSETFROM:+0200
TZOFFSETTO:+0100
TZNAME:CET
DTSTART:20271031T010000
END:STANDARD
END:VTIMEZONE
BEGIN:VEVENT
DTSTART;VALUE=DATE:20260710
DTEND;VALUE=DATE:20260718
DTSTAMP:20260420T202131
CREATED:20260321T130907Z
LAST-MODIFIED:20260321T141559Z
UID:1903-1783641600-1784332799@duag.org
SUMMARY:Seminarwoche in Höchenschwand Juli 2026 - Das Auge im Fokus (Vorankündigung)
DESCRIPTION:Vorankündigung: Vom 10. – 17. Juli 2026 findet in den Fachkliniken Sonnenhof in Höchenschwand die alljährlich stattfindende Seminarwoche statt. \nFrau Stettner hat zusammen mit den Mitarbeitenden der Klinik ein interessantes und umfangreiches Programm zusammengestellt. Als Referierender in Sachen Uveitis konnte Herr Dr. med. David Fink von der Universitätsmedizin Mannheim (UMM) gewonnen werden. \nFreuen Sie sich auf 7 Tage Informationen\, Anwendungen\, Beratungen und Schulung. Auch der Austausch untereinander wird nicht zu kurz kommen. \nIn den Fachkliniken Sonnenhof geht es rund ums Auge also damit auch um\ndie Uveitis. Der ehemaligen Rehastätte für Augenerkrankte ist es immer\nnoch wichtig\, den Kontakt nicht zu verlieren. Darum hat Kerstin Stettner\nzusammen mit der Geschäftsführung diese Seminarreihe ins Leben gerufen.\nDieses Jahr zum 2. Mal. \nVormittags gibt es diverse Vorträge und\nMitmachaktionen die Nachmittage stehen grundsätzlich zur freien\nVerfügung aber auch dann werden verschiede Angebote gemacht. \nDie Kosten belaufen sich auf 710 Euro in Vollpension inkl Nutzung aller\nSport und Wellnessmöglichkeiten im Haus. DUAG-mitglieder erhalten einen\nkleinen Rabatt \nBei Fragen\, Anmeldungen oder weiteres Interesse meldet euch bei Kerstin\nStettner unter 0177 62 42 52 1 oder kerstin.stettner@duag.org
URL:https://duag.org/termin/seminarwoche-in-hoechenschwand-juli-2026-vorankuendigung/
ORGANIZER;CN="Selbsthilfegruppe Aachen / Eifel - Siegen":MAILTO:khk.stettner@gmx.de.
END:VEVENT
END:VCALENDAR