BEGIN:VCALENDAR
VERSION:2.0
PRODID:-//DUAG e.V. - ECPv6.15.20//NONSGML v1.0//EN
CALSCALE:GREGORIAN
METHOD:PUBLISH
X-WR-CALNAME:DUAG e.V.
X-ORIGINAL-URL:https://duag.org
X-WR-CALDESC:Veranstaltungen für DUAG e.V.
REFRESH-INTERVAL;VALUE=DURATION:PT1H
X-Robots-Tag:noindex
X-PUBLISHED-TTL:PT1H
BEGIN:VTIMEZONE
TZID:Europe/Berlin
BEGIN:DAYLIGHT
TZOFFSETFROM:+0100
TZOFFSETTO:+0200
TZNAME:CEST
DTSTART:20250330T010000
END:DAYLIGHT
BEGIN:STANDARD
TZOFFSETFROM:+0200
TZOFFSETTO:+0100
TZNAME:CET
DTSTART:20251026T010000
END:STANDARD
BEGIN:DAYLIGHT
TZOFFSETFROM:+0100
TZOFFSETTO:+0200
TZNAME:CEST
DTSTART:20260329T010000
END:DAYLIGHT
BEGIN:STANDARD
TZOFFSETFROM:+0200
TZOFFSETTO:+0100
TZNAME:CET
DTSTART:20261025T010000
END:STANDARD
BEGIN:DAYLIGHT
TZOFFSETFROM:+0100
TZOFFSETTO:+0200
TZNAME:CEST
DTSTART:20270328T010000
END:DAYLIGHT
BEGIN:STANDARD
TZOFFSETFROM:+0200
TZOFFSETTO:+0100
TZNAME:CET
DTSTART:20271031T010000
END:STANDARD
END:VTIMEZONE
BEGIN:VEVENT
DTSTART;TZID=Europe/Berlin:20260528T113000
DTEND;TZID=Europe/Berlin:20260528T150000
DTSTAMP:20260419T215027
CREATED:20260321T130320Z
LAST-MODIFIED:20260321T130335Z
UID:1894-1779967800-1779980400@duag.org
SUMMARY:Beratung von Uveitis-Betroffenen im Universitäts-Augenklinikum Aachen - Mai 2026
DESCRIPTION:Am 28. Mai 2026 findet von 11.30 Uhr – 15 .00 Uhr in der Universitäts-Augenklinik Aachen\, 8. Etage (B3 Aufzug)\, Flur 12\, Zimmer 21\, eine von Frau Kerstin Stettner durchgeführte Beratung von Uveitis-Betroffenen statt. Vorab-Informationen erhalten Sie bei Frau Stettner\, Tel: 0177 6 24 25 21\, E-Mail: kerstin.stettner@uveitis-aachen.de
URL:https://duag.org/termin/beratung-von-uveitis-betroffenen-im-universitaets-augenklinikum-aachen/
LOCATION:Universitäts-Augenklinik Aachen
END:VEVENT
END:VCALENDAR