BEGIN:VCALENDAR
VERSION:2.0
PRODID:-//DUAG e.V. - ECPv6.15.20//NONSGML v1.0//EN
CALSCALE:GREGORIAN
METHOD:PUBLISH
X-WR-CALNAME:DUAG e.V.
X-ORIGINAL-URL:https://duag.org
X-WR-CALDESC:Veranstaltungen für DUAG e.V.
REFRESH-INTERVAL;VALUE=DURATION:PT1H
X-Robots-Tag:noindex
X-PUBLISHED-TTL:PT1H
BEGIN:VTIMEZONE
TZID:Europe/Berlin
BEGIN:DAYLIGHT
TZOFFSETFROM:+0100
TZOFFSETTO:+0200
TZNAME:CEST
DTSTART:20240331T010000
END:DAYLIGHT
BEGIN:STANDARD
TZOFFSETFROM:+0200
TZOFFSETTO:+0100
TZNAME:CET
DTSTART:20241027T010000
END:STANDARD
BEGIN:DAYLIGHT
TZOFFSETFROM:+0100
TZOFFSETTO:+0200
TZNAME:CEST
DTSTART:20250330T010000
END:DAYLIGHT
BEGIN:STANDARD
TZOFFSETFROM:+0200
TZOFFSETTO:+0100
TZNAME:CET
DTSTART:20251026T010000
END:STANDARD
BEGIN:DAYLIGHT
TZOFFSETFROM:+0100
TZOFFSETTO:+0200
TZNAME:CEST
DTSTART:20260329T010000
END:DAYLIGHT
BEGIN:STANDARD
TZOFFSETFROM:+0200
TZOFFSETTO:+0100
TZNAME:CET
DTSTART:20261025T010000
END:STANDARD
END:VTIMEZONE
BEGIN:VEVENT
DTSTART;TZID=Europe/Berlin:20251010T160000
DTEND;TZID=Europe/Berlin:20251010T190000
DTSTAMP:20260423T131736
CREATED:20250709T202702Z
LAST-MODIFIED:20250709T202911Z
UID:1595-1760112000-1760122800@duag.org
SUMMARY:Fachtag Uveitis in Aachen und Austausch im Oktober
DESCRIPTION:Uveitis SHG Aachen/Eifel und Siegen \nFachtag Uveitis in Aachen\nam 10. Oktober 2025\nvon 16 bis 19 Uhr \nwo: Klinikum Aachen\, Bibliothek der\nAugenheilkunde (wird ausgeschildert) \nAnmeldungen sind wünschenswert unter\nKerstin Stettner\nHandy 0177 6242521\nE-Mail kerstin.stettner@uveitis-aachen.de \n  \nDie Veranstaltung ist kostenfrei\, für das leibliche Wohl\nwird gesorgt\, Spenden erbeten. \n  \nEin weiterer Austausch wird am Folgetag\, den 11.10.2025\,\nin der Bischöflichen Akademie AC organisiert. Bitte auch\nhier um Anmeldungen. \nFlyer zur Veranstaltung als PDF zum Herunterladen \n 
URL:https://duag.org/termin/fachtag-uveitis-in-aachen-und-austausch-im-oktober/
ATTACH;FMTTYPE=image/jpeg:https://duag.org/wp-content/uploads/2025/07/Flyer-AC-2025_1.jpg
ORGANIZER;CN="Selbsthilfegruppe Aachen / Eifel - Siegen":MAILTO:khk.stettner@gmx.de.
END:VEVENT
END:VCALENDAR