BEGIN:VCALENDAR
VERSION:2.0
PRODID:-//DUAG e.V. - ECPv6.15.20//NONSGML v1.0//EN
CALSCALE:GREGORIAN
METHOD:PUBLISH
X-ORIGINAL-URL:https://duag.org
X-WR-CALDESC:Veranstaltungen für DUAG e.V.
REFRESH-INTERVAL;VALUE=DURATION:PT1H
X-Robots-Tag:noindex
X-PUBLISHED-TTL:PT1H
BEGIN:VTIMEZONE
TZID:Europe/Berlin
BEGIN:DAYLIGHT
TZOFFSETFROM:+0100
TZOFFSETTO:+0200
TZNAME:CEST
DTSTART:20240331T010000
END:DAYLIGHT
BEGIN:STANDARD
TZOFFSETFROM:+0200
TZOFFSETTO:+0100
TZNAME:CET
DTSTART:20241027T010000
END:STANDARD
BEGIN:DAYLIGHT
TZOFFSETFROM:+0100
TZOFFSETTO:+0200
TZNAME:CEST
DTSTART:20250330T010000
END:DAYLIGHT
BEGIN:STANDARD
TZOFFSETFROM:+0200
TZOFFSETTO:+0100
TZNAME:CET
DTSTART:20251026T010000
END:STANDARD
BEGIN:DAYLIGHT
TZOFFSETFROM:+0100
TZOFFSETTO:+0200
TZNAME:CEST
DTSTART:20260329T010000
END:DAYLIGHT
BEGIN:STANDARD
TZOFFSETFROM:+0200
TZOFFSETTO:+0100
TZNAME:CET
DTSTART:20261025T010000
END:STANDARD
END:VTIMEZONE
BEGIN:VEVENT
DTSTART;VALUE=DATE:20250925
DTEND;VALUE=DATE:20250929
DTSTAMP:20260423T145102
CREATED:20250902T150515Z
LAST-MODIFIED:20250902T151846Z
UID:1612-1758758400-1759103999@duag.org
SUMMARY:DUAG goes DOG 2025
DESCRIPTION:„DUAG goes DOG 2025“ \nDie DUAG wird vom 25.- 28. September 2025 auf der DOG 2025 ( https://dog-kongress.de/\, Kongress der  Deutsche Ophthalmologischen Gesellschaft) im Hotel Estrel Berlin mit einem Messestand im Foyer 1\, Stand F.04 vertreten sein. \n  \nDie Geschäftsstelle ist in dieser Zeit telefonisch nur eingeschränkt erreichbar.
URL:https://duag.org/termin/duag-goes-dog-2025/
END:VEVENT
END:VCALENDAR