BEGIN:VCALENDAR
VERSION:2.0
PRODID:-//DUAG e.V. - ECPv6.15.20//NONSGML v1.0//EN
CALSCALE:GREGORIAN
METHOD:PUBLISH
X-WR-CALNAME:DUAG e.V.
X-ORIGINAL-URL:https://duag.org
X-WR-CALDESC:Veranstaltungen für DUAG e.V.
REFRESH-INTERVAL;VALUE=DURATION:PT1H
X-Robots-Tag:noindex
X-PUBLISHED-TTL:PT1H
BEGIN:VTIMEZONE
TZID:Europe/Berlin
BEGIN:DAYLIGHT
TZOFFSETFROM:+0100
TZOFFSETTO:+0200
TZNAME:CEST
DTSTART:20240331T010000
END:DAYLIGHT
BEGIN:STANDARD
TZOFFSETFROM:+0200
TZOFFSETTO:+0100
TZNAME:CET
DTSTART:20241027T010000
END:STANDARD
BEGIN:DAYLIGHT
TZOFFSETFROM:+0100
TZOFFSETTO:+0200
TZNAME:CEST
DTSTART:20250330T010000
END:DAYLIGHT
BEGIN:STANDARD
TZOFFSETFROM:+0200
TZOFFSETTO:+0100
TZNAME:CET
DTSTART:20251026T010000
END:STANDARD
BEGIN:DAYLIGHT
TZOFFSETFROM:+0100
TZOFFSETTO:+0200
TZNAME:CEST
DTSTART:20260329T010000
END:DAYLIGHT
BEGIN:STANDARD
TZOFFSETFROM:+0200
TZOFFSETTO:+0100
TZNAME:CET
DTSTART:20261025T010000
END:STANDARD
END:VTIMEZONE
BEGIN:VEVENT
DTSTART;TZID=Europe/Berlin:20250903T180000
DTEND;TZID=Europe/Berlin:20250903T190000
DTSTAMP:20260423T144830
CREATED:20250114T111643Z
LAST-MODIFIED:20250902T150009Z
UID:1406-1756922400-1756926000@duag.org
SUMMARY:Austausch der Regionalgruppe Aachen\, Eifel\, Siegen - September 2025 (mit Frau Dr. Charlotte Evers vom Augenzentrum im St.-Franziskus-Hospital Münster)
DESCRIPTION:Unsere Regionalgruppe bietet alle ein bis zwei Monate Zoom-Konferenzen zum Austausch untereinander an. Beginn ist jeweils um 18:00 bzw. 19:00 Uhr Wer interessiert ist kann den Zugang zum jeweiligen Termin anfragen bei: Kerstin Stettner Tel: 0177 6 24 25 21 E-Mail: Khk.stettner@gmx.de \nAm 03.09. istFrau Dr. Charlotte Evers vom Augenzentrum im St.-Franziskus-Hospital Münster zu Gast \n  \n 
URL:https://duag.org/termin/austausch-der-regionalgruppe-aachen-eifel-siegen-september-2025/
LOCATION:Online
CATEGORIES:Onlineveranstaltung
ORGANIZER;CN="Selbsthilfegruppe Aachen / Eifel - Siegen":MAILTO:khk.stettner@gmx.de.
END:VEVENT
END:VCALENDAR